BEGIN:VCALENDAR
VERSION:2.0
PRODID:-//ChamberMaster//Event Calendar 2.0//EN
METHOD:PUBLISH
X-PUBLISHED-TTL:P3D
REFRESH-INTERVAL:P3D
CALSCALE:GREGORIAN
BEGIN:VEVENT
DTSTART:20250424T213000Z
DTEND:20250424T230000Z
X-MICROSOFT-CDO-ALLDAYEVENT:FALSE
SUMMARY:2025 Business After Hours: McHugh's Public House (April)
DESCRIPTION:
X-ALT-DESC;FMTTYPE=text/html:
LOCATION:McHugh's Public House 5715 Egan Drive Savage\, MN 55378
UID:e.1746.286293
SEQUENCE:3
DTSTAMP:20260419T211559Z
URL:https://chambermaster.savagechamber.com/events/details/2025-business-after-hours-mchugh-s-public-house-april-286293
END:VEVENT

END:VCALENDAR
