BEGIN:VCALENDAR
VERSION:2.0
PRODID:-//ChamberMaster//Event Calendar 2.0//EN
METHOD:PUBLISH
X-PUBLISHED-TTL:P3D
REFRESH-INTERVAL:P3D
CALSCALE:GREGORIAN
BEGIN:VEVENT
DTSTART;VALUE=DATE:20250512
DTEND;VALUE=DATE:20250629
TRANSP:TRANSPARENT
X-MICROSOFT-CDO-ALLDAYEVENT:TRUE
SUMMARY:2025 Dan Patch Days Button Sales
DESCRIPTION:GET YOUR 2025 DAN PATCH DAYS BUTTON\n\nDan Patch Days is celebrated annually every year in Savage\, MN. The Dan Patch Historical Society sponsors the buttons to commemorate the event\, support the society\, and acknowledge the long tradition of how the society is preserving the city's history.\n\n.\n\nPrice: $5.00\n\n	Savage Public Library\n	Savage City Hall\n	Dan Patch Historical Society Booth at Dan Patch Days\n	Ask a DPHS Board member.\n\nPurchasing a button gets you a chance to win one of three prizes:\n\n\n	1970 Dan Patch Whiskey Decanter (empty)\, donated by Tausha Chamberland\n	Limited Edition Savage Blanket\, donated by the Jens Bohn Estate\n	 3 Dan Patch Collector Plates\, donated by the George Augustinack Collection Design\n\nDrawing for winners takes place Saturday\, June 28\, 5 PM at Dan Patch Historical Society Booth. Need not be present to win.
X-ALT-DESC;FMTTYPE=text/html:GET YOUR 2025 DAN PATCH DAYS BUTTON<br />\nDan Patch Days is celebrated annually every year in Savage\, MN. The Dan Patch Historical Society sponsors the buttons to commemorate the event\, support the society\, and acknowledge the long tradition of how the society is preserving the city&rsquo\;s history.<br />\n.<br />\nPrice: $5.00\n<ul>\n	<li>Savage Public Library</li>\n	<li>Savage City Hall</li>\n	<li>Dan Patch Historical Society Booth at Dan Patch&nbsp\;Days</li>\n	<li>Ask a DPHS Board member.</li>\n</ul>\nPurchasing a button gets you a chance to win one of three prizes:\n\n<ul>\n	<li>1970 Dan Patch Whiskey Decanter (empty)\, donated by Tausha Chamberland</li>\n	<li>Limited Edition Savage Blanket\, donated by the Jens Bohn Estate</li>\n	<li>&#8203\;3 Dan Patch Collector Plates\, donated by the George Augustinack Collection Design</li>\n</ul>\nDrawing for winners takes place Saturday\, June 28\, 5 PM at Dan Patch Historical Society Booth. Need not be present to win.<br />\n<br />\n&nbsp\;
LOCATION:Where To Buy: Savage Public Library Savage City Hall Dan Patch Historical Society Booth at Dan Patch Days Ask a DPHS Board member.
UID:e.1746.286314
SEQUENCE:3
DTSTAMP:20260419T183607Z
URL:https://chambermaster.savagechamber.com/events/details/2025-dan-patch-days-button-sales-286314
END:VEVENT

END:VCALENDAR
