BEGIN:VCALENDAR
VERSION:2.0
PRODID:-//ChamberMaster//Event Calendar 2.0//EN
METHOD:PUBLISH
X-PUBLISHED-TTL:P3D
REFRESH-INTERVAL:P3D
CALSCALE:GREGORIAN
BEGIN:VEVENT
DTSTART:20131017T233000Z
DTEND:20131018T013000Z
X-MICROSOFT-CDO-ALLDAYEVENT:FALSE
SUMMARY:Growth Basics for Small Business Workshop
DESCRIPTION:The 3rd of a 4 part Series Workshop\;\n\nOctober 17 - Risk Management and Healthcare\n\nAs your business grows and evolves\, the insurance plans should also.  Learn what is legally and contractually required.  Jenny Pine of Onyx and Mark Phillips of Doliff Insurance\n\nClick here for more information and registration
X-ALT-DESC;FMTTYPE=text/html:The 3rd of a 4 part Series Workshop\;<br />\nOctober 17 - Risk Management and Healthcare<br />\nAs your business grows and evolves\, the insurance plans should also. &nbsp\;Learn what is legally and contractually required. &nbsp\;Jenny Pine of Onyx and Mark Phillips of Doliff Insurance<br />\nClick<u><em><strong><a href="http://cloud.chambermaster.com/userfiles/UserFiles/chambers/1746/File/workshop.pdf"> here</a></strong></em></u> for more information and registration&nbsp\;
LOCATION:Community Meeting Room 6000 McColl Drive\, Savage Savage City Hall
UID:e.1746.282125
SEQUENCE:3
DTSTAMP:20260425T035805Z
URL:https://chambermaster.savagechamber.com/events/details/growth-basics-for-small-business-workshop-10-17-2013-282125
END:VEVENT

END:VCALENDAR
