BEGIN:VCALENDAR
VERSION:2.0
PRODID:-//ChamberMaster//Event Calendar 2.0//EN
METHOD:PUBLISH
X-PUBLISHED-TTL:P3D
REFRESH-INTERVAL:P3D
CALSCALE:GREGORIAN
BEGIN:VEVENT
DTSTART:20131024T233000Z
DTEND:20131025T013000Z
X-MICROSOFT-CDO-ALLDAYEVENT:FALSE
SUMMARY:Growth Basics for Small Business Workshop
DESCRIPTION:The 4th of a 4 part Series Workshop\;\n\nOctober 24 - Financing Growth\n\nNow that you have planned out how you are going to grow your business\, it's time to figure out how to finance the plan!   Panel Discussion\n\nClick here for more information and registration
X-ALT-DESC;FMTTYPE=text/html:The 4th of a 4 part Series Workshop\;<br />\nOctober 24 - Financing Growth<br />\nNow that you have planned out how you are going to grow your business\, it&#39\;s time to figure out how to finance the plan! &nbsp\; Panel Discussion<br />\nClick<u><em><strong><a href="http://cloud.chambermaster.com/userfiles/UserFiles/chambers/1746/File/workshop.pdf"> here</a></strong></em></u> for more information and registration&nbsp\;
LOCATION:Community Meeting Room 6000 McColl Drive\, Savage Savage City Hall
UID:e.1746.282126
SEQUENCE:3
DTSTAMP:20260425T035733Z
URL:https://chambermaster.savagechamber.com/events/details/growth-basics-for-small-business-workshop-10-24-2013-282126
END:VEVENT

END:VCALENDAR
