BEGIN:VCALENDAR
VERSION:2.0
PRODID:-//ChamberMaster//Event Calendar 2.0//EN
METHOD:PUBLISH
X-PUBLISHED-TTL:P3D
REFRESH-INTERVAL:P3D
CALSCALE:GREGORIAN
BEGIN:VEVENT
DTSTART:20250506T180000Z
DTEND:20250506T193000Z
X-MICROSOFT-CDO-ALLDAYEVENT:FALSE
SUMMARY:Path to Peace of Mind
DESCRIPTION:Path to Peace of Mind is a workshop for planning Advance Directive\, Elder Care\, and End of Life. The workshop is presented by Judy Carlson\, owner of Surrounded in Peace LLC\, End of Life Doula Serivces\, Savage\, MN. The event will be hosted on Tuesday afternoons for 4 weeks. The last week will include a vendor Community Showcase to meet with vendors focused in elder\, end of life care.
X-ALT-DESC;FMTTYPE=text/html:Path to Peace of Mind is a workshop for planning Advance Directive\, Elder Care\, and End of Life. The workshop is presented by Judy Carlson\, owner of Surrounded in Peace LLC\, End of Life Doula Serivces\, Savage\, MN. The event will be hosted on Tuesday afternoons for 4 weeks. The last week will include a vendor Community Showcase to meet with vendors focused in elder\, end of life care.
LOCATION:Prince Of Peace Lutheran Church 13801 Fairview Drive\, Burnsville\, MN
UID:e.1746.286308
SEQUENCE:3
DTSTAMP:20260419T181336Z
URL:https://chambermaster.savagechamber.com/events/details/path-to-peace-of-mind-05-06-2025-286308
END:VEVENT

END:VCALENDAR
