BEGIN:VCALENDAR
VERSION:2.0
PRODID:-//ChamberMaster//Event Calendar 2.0//EN
METHOD:PUBLISH
X-PUBLISHED-TTL:P3D
REFRESH-INTERVAL:P3D
CALSCALE:GREGORIAN
BEGIN:VEVENT
DTSTART:20250629T120000Z
DTEND:20250629T170000Z
X-MICROSOFT-CDO-ALLDAYEVENT:FALSE
SUMMARY:Savage Fire Pancake Breakfast
DESCRIPTION:The popular pancake breakfast\, hosted by Savage Fire\, is returning to Station 2\, 13105 Dakota Ave.\, on Sunday\, June 29! Join us from 7 a.m. - noon for pancakes\, sausage\, juice\, and coffee. While you're here\, check out the fire trucks\, talk with Savage firefighters\, and more.
X-ALT-DESC;FMTTYPE=text/html:The popular pancake breakfast\, hosted by Savage Fire\, is returning to Station 2\, 13105 Dakota Ave.\, on Sunday\, June 29! Join us from 7 a.m. - noon for pancakes\, sausage\, juice\, and coffee. While you&rsquo\;re here\, check out the fire trucks\, talk with Savage firefighters\, and more.
LOCATION:Fire Station 2 13105 Dakota Ave. Savage\, Minnesota 55378
UID:e.1746.286318
SEQUENCE:3
DTSTAMP:20260419T211156Z
URL:https://chambermaster.savagechamber.com/events/details/savage-fire-pancake-breakfast-286318
END:VEVENT

END:VCALENDAR
