BEGIN:VCALENDAR
VERSION:2.0
PRODID:-//ChamberMaster//Event Calendar 2.0//EN
METHOD:PUBLISH
X-PUBLISHED-TTL:P3D
REFRESH-INTERVAL:P3D
CALSCALE:GREGORIAN
BEGIN:VEVENT
DTSTART:20131010T123000Z
DTEND:20131010T133000Z
X-MICROSOFT-CDO-ALLDAYEVENT:FALSE
SUMMARY:Wake Up! Savage
DESCRIPTION:Wake Up! Savage \n\nThursday\, October 10th \n\n7:30 am to 8:30 am\n\n\n\nHosted by Prior Lake State Bank located at 14033 Commerce Ave NE- Prior Lake\, MN (the branch location at CO Rd 42 and Highway 13).  \n\n\n\nCome join your fellow Chamber members for some early morning refreshments and networking.  RSVP to mail@savagechamber.com by Tuesday\, October 8th
X-ALT-DESC;FMTTYPE=text/html:<span style="font-size: 16px"><span style="font-family: tahoma"><strong><strong><font face="Tahoma" size="3">Wake Up! Savage </font></strong><br />\nThursday\, October 10<sup>th</sup>&nbsp\;<br />\n7:30 am to 8:30 am<br />\n<br />\nHosted&nbsp\;by Prior Lake State Bank&nbsp\;<em>located at 14033 Commerce Ave NE- Prior Lake\, MN (the branch location at CO Rd 42 and Highway 13).&nbsp\; </em><br />\n<br />\nCome join your fellow Chamber members for some early morning refreshments and networking.&nbsp\; RSVP to <a href="mailto:mail@savagechamber.com?subject=RSVP%20to%20October%20Wake%20Up!%20Savage&amp\;body=Please%20RSVP%20(your%20name%20here)%20for%20the%20October%20Wake%20Up!%20Savage%0A%0AThank%20you!"><span style="color:#0000ff\;">mail@savagechamber.com</span></a>&nbsp\;by Tuesday\, October&nbsp\;8<sup>th</sup> </strong></span></span>
LOCATION:
UID:e.1746.282037
SEQUENCE:3
DTSTAMP:20260425T035616Z
URL:https://chambermaster.savagechamber.com/events/details/wake-up-savage-10-10-2013-282037
END:VEVENT

END:VCALENDAR
